BEGIN:VCALENDAR
VERSION:2.0
CALSCALE:GREGORIAN
PRODID:adamgibbons/ics
METHOD:PUBLISH
X-PUBLISHED-TTL:PT1H
BEGIN:VEVENT
UID:4589@lapunta.org
SUMMARY:Glitched Valentine
DTSTAMP:20260424T050948Z
DTSTART:20250214T210000Z
DTEND:20250214T210000Z
DESCRIPTION:Avete voglia di passare un San Valentino diverso dal solito?\nV
	enite a passarlo con noi in serata a base di musica 8 bit sintetizzata tra
	mite\ngame boy\, a farci ballare fino a tarda notte si alterneranno Arotte
	nbit\, The\nStand e Marbit\nDurante la serata sarà presente un cabinato di
	 giochi arcade dove poter rivivere\nl’emozione di giocare ai vostri giochi
	 preferiti anni 80-90!\n\nOre 20:30 Cena sociale\n\nOre 22:00\n\n * Arotte
	nbit (like Atari Teenage Riot playing some Melvins)\n\n * The Stand (porta
	no rancore)\n\n * Marbit (electro 8 bit)\n\nRispetta il posto e i suoi occ
	upanti\, e quando esci…\nRispetta il quartiere e i suoi abitanti!\nNO RAZZ
	ISMO FASCISMO E SESSISMO !!\nNO SPACCIO NO DROGHE PESANTI !!
URL:https://lapunta.org/event/glitched-valentine
LOCATION:CPA Firenze sud - Via di Villamagna 27/a\, Firenze
STATUS:CONFIRMED
CATEGORIES:8bit,Firenze,retrocomputing,san valentino
X-ALT-DESC;FMTTYPE=text/html:<p>Avete voglia di passare un San Valentino di
	verso dal solito?<br>Venite a passarlo con noi in serata a base di musica 
	8 bit sintetizzata tramite game boy, a farci ballare fino a tarda notte si
	 alterneranno Arottenbit, The Stand e Marbit<br>Durante la serata sarà pre
	sente un cabinato di giochi arcade dove poter rivivere l’emozione di gioca
	re ai vostri giochi preferiti anni 80-90!</p><p><strong>Ore 20:30</strong>
	 Cena sociale</p><p><strong>Ore 22:00</strong></p><ul><li><p>Arottenbit (l
	ike Atari Teenage Riot playing some Melvins)</p></li><li><p>The Stand (por
	tano rancore)</p></li><li><p>Marbit (electro 8 bit)</p></li></ul><p>Rispet
	ta il posto e i suoi occupanti, e quando esci…<br>Rispetta il quartiere e 
	i suoi abitanti!<br>NO RAZZISMO FASCISMO E SESSISMO !!<br>NO SPACCIO NO DR
	OGHE PESANTI !!</p>
END:VEVENT
END:VCALENDAR
